BEGIN:VCALENDAR
VERSION:2.0
PRODID:-//Bennington Museum | Grandma Moses | Vermont History and Art - ECPv6.15.18//NONSGML v1.0//EN
CALSCALE:GREGORIAN
METHOD:PUBLISH
X-WR-CALNAME:Bennington Museum | Grandma Moses | Vermont History and Art
X-ORIGINAL-URL:https://benningtonmuseum.org
X-WR-CALDESC:Events for Bennington Museum | Grandma Moses | Vermont History and Art
REFRESH-INTERVAL;VALUE=DURATION:PT1H
X-Robots-Tag:noindex
X-PUBLISHED-TTL:PT1H
BEGIN:VTIMEZONE
TZID:America/New_York
BEGIN:DAYLIGHT
TZOFFSETFROM:-0500
TZOFFSETTO:-0400
TZNAME:EDT
DTSTART:20250309T070000
END:DAYLIGHT
BEGIN:STANDARD
TZOFFSETFROM:-0400
TZOFFSETTO:-0500
TZNAME:EST
DTSTART:20251102T060000
END:STANDARD
BEGIN:DAYLIGHT
TZOFFSETFROM:-0500
TZOFFSETTO:-0400
TZNAME:EDT
DTSTART:20260308T070000
END:DAYLIGHT
BEGIN:STANDARD
TZOFFSETFROM:-0400
TZOFFSETTO:-0500
TZNAME:EST
DTSTART:20261101T060000
END:STANDARD
BEGIN:DAYLIGHT
TZOFFSETFROM:-0500
TZOFFSETTO:-0400
TZNAME:EDT
DTSTART:20270314T070000
END:DAYLIGHT
BEGIN:STANDARD
TZOFFSETFROM:-0400
TZOFFSETTO:-0500
TZNAME:EST
DTSTART:20271107T060000
END:STANDARD
END:VTIMEZONE
BEGIN:VEVENT
DTSTART;TZID=America/New_York:20260509T103000
DTEND;TZID=America/New_York:20260509T113000
DTSTAMP:20260425T232233
CREATED:20260121T164913Z
LAST-MODIFIED:20260416T180714Z
UID:10001722-1778322600-1778326200@benningtonmuseum.org
SUMMARY:Museum ABCs: Amazing Architecture
DESCRIPTION:You know about windows and doors\, but can you spot a column\, an arch\, or a dentil? We’ll visit a nearby building that has all of these bits of architecture. Will you add them to the building you make to bring home? \nNote: This program has been changed from its original date in June. Join us June 13 for Trail Tale: If You Plant a Seed. \nMuseum ABCs is a collaboration between Bennington Museum and the Bennington Free Library\, designed for children ages 3 to 5 and their adult companions. Siblings are welcome! Museum ABCs is FREE thanks to funding from The Bank of Bennington. Join us on the second Saturday of each month\, April through November\, for artwork\, stories\, and more! \npresented in partnership with the Bennington Free Library \nsponsored by \nadditional support from
URL:https://benningtonmuseum.org/event/abcs2026jun/
CATEGORIES:Museum ABCs
ATTACH;FMTTYPE=image/jpeg:https://benningtonmuseum.org/wp-content/uploads/Kids-Building.jpg
END:VEVENT
END:VCALENDAR